BEGIN:VCALENDAR
VERSION:2.0
PRODID:-//Heimatverein Esterwegen e. V. - ECPv6.15.20//NONSGML v1.0//EN
CALSCALE:GREGORIAN
METHOD:PUBLISH
X-WR-CALNAME:Heimatverein Esterwegen e. V.
X-ORIGINAL-URL:https://heimatverein-esterwegen.de
X-WR-CALDESC:Veranstaltungen für Heimatverein Esterwegen e. V.
REFRESH-INTERVAL;VALUE=DURATION:PT1H
X-Robots-Tag:noindex
X-PUBLISHED-TTL:PT1H
BEGIN:VTIMEZONE
TZID:UTC
BEGIN:STANDARD
TZOFFSETFROM:+0000
TZOFFSETTO:+0000
TZNAME:UTC
DTSTART:20220101T000000
END:STANDARD
END:VTIMEZONE
BEGIN:VEVENT
DTSTART;TZID=UTC:20250802T170000
DTEND;TZID=UTC:20250802T220000
DTSTAMP:20260420T051818
CREATED:20250512T090049Z
LAST-MODIFIED:20250728T080721Z
UID:260-1754154000-1754172000@heimatverein-esterwegen.de
SUMMARY:Heimatabend OpenAir 2025
DESCRIPTION:Keine Tickets mehr verfügbar!  \nEinlass bereits um 16:30 Uhr!
URL:https://heimatverein-esterwegen.de/event/heimatabend-openair-2025/
LOCATION:Infozentrum Esterwegen\, Dorfplatz 2\, Esterwegen\, 26897\, Deutschland
END:VEVENT
BEGIN:VEVENT
DTSTART;TZID=UTC:20250629T110000
DTEND;TZID=UTC:20250629T170000
DTSTAMP:20260420T051818
CREATED:20250515T144013Z
LAST-MODIFIED:20250515T144418Z
UID:275-1751194800-1751216400@heimatverein-esterwegen.de
SUMMARY:Spielplatzfest
DESCRIPTION:Spiel & Spaß in Gemeinschaft \nFeierliche Einweihung des Mehrgenerationenspielplatzes auf dem Dorfplatz
URL:https://heimatverein-esterwegen.de/event/spielplatzfest/
LOCATION:Dorfplatz Esterwegen\, Dorfplatz 4\, Esterwegen\, 26897
END:VEVENT
BEGIN:VEVENT
DTSTART;TZID=UTC:20240405T200000
DTEND;TZID=UTC:20240405T220000
DTSTAMP:20260420T051818
CREATED:20240206T200137Z
LAST-MODIFIED:20240206T201003Z
UID:121-1712347200-1712354400@heimatverein-esterwegen.de
SUMMARY:Generalversammlung
DESCRIPTION:EINLADUNG ZUR GENERALVERSAMMLUNG\n\nDie diesjährige Generalversammlung des Heimatvereins Esterwegen e.V. findet am Freitag den 05.04.2024 um 20:00 im Infozentrum in Esterwegen statt.\n\nHierzu laden wir alle Mitglieder recht herzlich ein!
URL:https://heimatverein-esterwegen.de/event/121/
LOCATION:Infozentrum Esterwegen\, Dorfplatz 2\, Esterwegen\, 26897\, Deutschland
END:VEVENT
BEGIN:VEVENT
DTSTART;TZID=UTC:20231222T180000
DTEND;TZID=UTC:20231222T193000
DTSTAMP:20260420T051818
CREATED:20231222T180010Z
LAST-MODIFIED:20231031T152957Z
UID:43-1703268000-1703273400@heimatverein-esterwegen.de
SUMMARY:Weihnachtssingen
DESCRIPTION:
URL:https://heimatverein-esterwegen.de/event/weihnachtssingen/
LOCATION:Remsie des Heimatvereins Esterwegen\, Dorfplatz 4\, Esterwegen\, 26897
END:VEVENT
END:VCALENDAR